Workbook

Sheet HD камеры
A1: Артикул | B1: Изображение | C1: Модель | D1: Характеристика | E1: ЦенаUSD | F1: Цена с НДС | G1: Кол-во | H1: Сумма USD | I1: Сумма НДС | J1: 13000
A2: 300512606 | C2: DS-2CE10DF0T-PF(2.8mm)(O-STD) | D2: 2MCMOSSensor.OutdoorBullet.0.001Lux/F1.0.0LuxwithwhiteLight.20m.3DDNR.12VDC.OSDMenu(UptheCoax).IP67.2.8/3.6/6mmLens.24HColor，SupportTVI/AHD/CVI/CVBSvideosignaloutput. | E2: =VLOOKUP(C2,'Короткий прайс'!A:B,2,0) -> 25 | F2: =ROUNDUP(E2*$J$1,0) -> 325000 | H2: =G2*E2 -> 0 | I2: =G2*F2 -> 0
A3: 300512767 | C3: DS-2CE10DF3T-PF(2.8mm)(O-STD) | D3: 2MBSICMOSSensor.OutdoorminiBullet.0.0005Lux/F1.0.0LuxwithFriendlyLighting.20M.3DDNR.DC12V.OSDMenu(UptheCoax).130dBTrueWDR.IP67.2.8/3.6/6mmLens.24HColor.SupportTVI/AHD/CVI/CVBSvideosignaloutput | E3: =VLOOKUP(C3,'Короткий прайс'!A:B,2,0) -> 28.4 | F3: =ROUNDUP(E3*$J$1,0) -> 369200 | H3: =G3*E3 -> 0 | I3: =G3*F3 -> 0
C4: DS-2CE16D0T-IT3 3,6mm | D4: 2 MP Fixed Bullet Camera 2 MP bullet camera EXIR 2.0: advanced infrared technology with 40 m IR distance Water and dust resistant (IP67) | E4: =VLOOKUP(C4,'Короткий прайс'!A:B,2,0) -> 20 | F4: =ROUNDUP(E4*$J$1,0) -> 260000 | H4: =G4*E4 -> 0 | I4: =G4*F4 -> 0
C5: DS-2CE16D0T-IT1 3,6mm | D5: 2 MP Fixed Bullet Camera 2 MP bullet camera EXIR 2.0: advanced infrared technology with 30 m IR distance Water and dust resistant (IP67) | E5: =VLOOKUP(C5,'Короткий прайс'!A:B,2,0) -> 15 | F5: =ROUNDUP(E5*$J$1,0) -> 195000 | H5: =G5*E5 -> 0 | I5: =G5*F5 -> 0
A6: 300511835 | C6: DS-2CE10HFT-F(3.6mm)(O-STD) | D6: 5M BSI CMOS Sensor.5MP@20fps. 4MP@25fps(P)/30fps(N)(Default).Outdoor Bullet.0.0005Lux/F1.0. 0 Lux with Friendly Lighting.20m.3D DNR.12 VDC.OSD Menu(Up the Coax). 130dB True WDR. IP67. 3.6/6mm Lens.24H Color，Support TVI/AHD/CVI/CVBS video signal output | E6: =VLOOKUP(C6,'Короткий прайс'!A:B,2,0) -> 32 | F6: =ROUNDUP(E6*$J$1,0) -> 416000 | H6: =G6*E6 -> 0 | I6: =G6*F6 -> 0
A7: 300511600 | C7: DS-2CE11D0T-PIRLPO(2.8mm)(O-STD) | D7: 2M CMOS Sensor.EXIR. 20m IR. Outdoor EXIR Bullet. ICR. 0.01 Lux/F1.2. 12 VDC. PIR Detection，Led Alarm.Alarm out.Smart IR.OSD Menu(Up the Coax). IP67. 2.8/3.6mm Lens | E7: =VLOOKUP(C7,'Короткий прайс'!A:B,2,0) -> 19 | F7: =ROUNDUP(E7*$J$1,0) -> 247000 | H7: =G7*E7 -> 0 | I7: =G7*F7 -> 0
A8: 300511606 | C8: DS-2CE11H0T-PIRLP(2.8mm)(O-STD) | D8: 5MP@20fps. 4MP@25fps(P)/30fps(N)(Default). EXIR. 20m IR. Outdoor EXIR Bullet. ICR. 0.01 Lux/F1.2. 12 VDC. PIR Detection，Led Alarm.Smart IR.DNR.OSD Menu(Up the Coax). IP67. 2.8/3.6mm Lens | E8: =VLOOKUP(C8,'Короткий прайс'!A:B,2,0) -> 28 | F8: =ROUNDUP(E8*$J$1,0) -> 364000 | H8: =G8*E8 -> 0 | I8: =G8*F8 -> 0
A9: 300510157 | C9: DS-2CE12D0T-PIRL(2.8mm)(O-STD) | D9: 2M CMOS Sensor.EXIR. 20m IR. Outdoor EXIR Bullet. ICR. 0.01 Lux/F1.2. 12 VDC. PIR Detection，Led Alarm&Lighting.Smart IR. OSD Menu(Up the Coax). IP67. 2.8/3.6mm Lens | E9: =VLOOKUP(C9,'Короткий прайс'!A:B,2,0) -> 20.5 | F9: =ROUNDUP(E9*$J$1,0) -> 266500 | H9: =G9*E9 -> 0 | I9: =G9*F9 -> 0
A10: 300512600 | C10: DS-2CE12DF0T-F(2.8mm)(O-STD) | D10: 2M CMOS Sensor. Outdoor Bullet.0.001Lux/F1.0.0 Lux with white Light.40m.3D DNR.12 VDC.OSD Menu(Up the Coax). IP67. 2.8/3.6/6mm Lens.24H Color，Support TVI/AHD/CVI/CVBS video signal output | E10: =VLOOKUP(C10,'Короткий прайс'!A:B,2,0) -> 31 | F10: =ROUNDUP(E10*$J$1,0) -> 403000 | H10: =G10*E10 -> 0 | I10: =G10*F10 -> 0
C11: DS-2CE12DF3T-F 2.8MM | D11: 2 MP ColorVu Fixed Bullet Camera High quality imaging with 2 MP, 1920 × 1080 resolution 24/7 color imaging with F1.0 aperture Clear imaging against strong back light due to 130 dB true WDR technology 3D DNR technology delivers clean and sharp images 2.8 mm, 3.6 mm fixed focal lens Up to 40 m white light distance for bright night imaging One port for four switchable signals (TVI/AHD/CVI/CVBS) Water and dust resistant (IP67) | E11: =VLOOKUP(C11,'Короткий прайс'!A:B,2,0) -> 37 | F11: =ROUNDUP(E11*$J$1,0) -> 481000 | H11: =G11*E11 -> 0 | I11: =G11*F11 -> 0
A12: 300510161 | C12: DS-2CE12H0T-PIRLO 2,8mm | D12: 5MP@20fps. 4MP@25fps(P)/30fps(N)(Default).EXIR. 20m IR. Outdoor EXIR Bullet. ICR. 0.01 Lux/F1.2. 12 VDC. PIR Detection，Led Alarm&Lighting.Smart IR. DNR.OSD Menu(Up the Coax). IP67. 2.8/3.6mm Lens | E12: =VLOOKUP(C12,'Короткий прайс'!A:B,2,0) -> 26 | F12: =ROUNDUP(E12*$J$1,0) -> 338000 | H12: =G12*E12 -> 0 | I12: =G12*F12 -> 0
A13: 300511837 | C13: DS-2CE12HFT-F(3.6mm)(O-STD) | D13: 5M BSI CMOS Sensor.5MP@20fps. 4MP@25fps(P)/30fps(N)(Default).Outdoor Bullet.0.0005Lux/F1.0.0 Lux with Friendly Lighting.40m.3D DNR.12 VDC.OSD Menu(Up the Coax). 130dB True WDR. IP67. 3.6/6mm Lens.24H Color，Support TVI/AHD/CVI/CVBS video signal output | E13: =VLOOKUP(C13,'Короткий прайс'!A:B,2,0) -> 35 | F13: =ROUNDUP(E13*$J$1,0) -> 455000 | H13: =G13*E13 -> 0 | I13: =G13*F13 -> 0
A14: 300511985 | C14: DS-2CE16D0T-IRP 2,8mm | D14: High quality imaging with 2 MP. 1920 × 1080 resolution 2.8 mm. 3.6 mm fixed lens Up to 20 m IR distance for bright night imaging One port for four switchable signals (TVI/AHD/CVI/CVBS) Water and dust resistant (IP67) | E14: =VLOOKUP(C14,'Короткий прайс'!A:B,2,0) -> 17 | F14: =ROUNDUP(E14*$J$1,0) -> 221000 | H14: =G14*E14 -> 0 | I14: =G14*F14 -> 0
A15: 300511741 | C15: DS-2CE16D0T-ITPFS(2.8mm)(O-STD) | D15: 2MP CMOS Sensor. 1080P@25fps(P)(Default)/30fps(N).EXIR. 25m IR. Outdoor EXIR Bullet. ICR. 0.01 Lux/F1.2. 12 VDC. Smart IR. DNR. Built-in Mic.Audio up Coaxial(Only TVI).OSD Menu(Up the Coax). IP67.2.8/3.6/6mm Lens，Support TVI/AHD/CVI/CVBS video signal output | E15: =VLOOKUP(C15,'Короткий прайс'!A:B,2,0) -> 21 | F15: =ROUNDUP(E15*$J$1,0) -> 273000 | H15: =G15*E15 -> 0 | I15: =G15*F15 -> 0
A16: 300512639 | C16: DS-2CE16D0T-EXIPF 2,8mm | D16: 2MP CMOS Sensor, 1 pcs EXIR LEDs, 20m IR, Outdoor EXIR Bullet, ICR, 0.02 Lux/F1.2, 12 VDC, Smart IR, DNR, IP66, 2.8/3.6mm Lens, Support TVI/AHD/CVI/CVBS video signal output | E16: =VLOOKUP(C16,'Короткий прайс'!A:B,2,0) -> 16 | F16: =ROUNDUP(E16*$J$1,0) -> 208000 | H16: =G16*E16 -> 0 | I16: =G16*F16 -> 0
A17: 300509599 | C17: DS-2CE16H0T-IT3F(6mm)(O-STD) | D17: 5MP@20fps. 4MP@25fps(P)/30fps(N)(Default). EXIR. 40m IR. Outdoor EXIR Bullet. ICR. 0.01 Lux/F1.2. 12 VDC. Smart IR. DNR. OSD Menu(Up the Coax). IP67. 2.8/3.6/6/8/12mm Lens，Support TVI/AHD/CVI/CVBS video signal output | E17: =VLOOKUP(C17,'Короткий прайс'!A:B,2,0) -> 27 | F17: =ROUNDUP(E17*$J$1,0) -> 351000 | H17: =G17*E17 -> 0 | I17: =G17*F17 -> 0
A18: 300512121 | C18: DS-2CE16H0T-ITPF(2.8mm)(O-STD)(C) | D18: 5MP@20fps. 4MP@25fps(P)/30fps(N)(Default). EXIR. 25m IR. Outdoor EXIR Bullet. ICR. 0.01 Lux/F1.2. 12 VDC. Smart IR. DNR. OSD Menu(Up the Coax). IP67. 2.4/2.8/3.6/6mm Lens，Support TVI/AHD/CVI/CVBS video signal output | E18: =VLOOKUP(C18,'Короткий прайс'!A:B,2,0) -> 26 | F18: =ROUNDUP(E18*$J$1,0) -> 338000 | H18: =G18*E18 -> 0 | I18: =G18*F18 -> 0
A19: 300511757 | C19: DS-2CE16H0T-ITPFS(2.8mm)(O-STD) | D19: 5MP@20fps. 4MP@25fps(P)/30fps(N)(Default). EXIR. 25m IR. Outdoor EXIR Bullet. ICR. 0.01 Lux/F1.2. 12 VDC. Smart IR. DNR. Built-in Mic.Audio up Coaxial(Only TVI).OSD Menu(Up the Coax). IP67.2.8/3.6/6mm Lens，Support TVI/AHD/CVI/CVBS video signal output | E19: =VLOOKUP(C19,'Короткий прайс'!A:B,2,0) -> 27 | F19: =ROUNDUP(E19*$J$1,0) -> 351000 | H19: =G19*E19 -> 0 | I19: =G19*F19 -> 0
C20: DS-2CE17D0T-IT1F 2.8MM C | D20: 2 MP Fixed Bullet Camera High quality imaging with 2 MP, 1920 × 1080 resolution 2.8 mm, 3.6 mm, 6 mm fixed focal lens Up to 30 m IR distance for bright night imaging One port for four switchable signals (TVI/AHD/CVI/CVBS) Water and dust resistant (IP67) | E20: =VLOOKUP(C20,'Короткий прайс'!A:B,2,0) -> 21 | F20: =ROUNDUP(E20*$J$1,0) -> 273000 | H20: =G20*E20 -> 0 | I20: =G20*F20 -> 0
A21: 301801383 | C21: DS-2CE17D0T-IT5 3,6mm | D21: 2MP CMOS Sensor.EXIR 80m IR. Outdoor EXIR Bullet. ICR. 0.01 Lux/F1.2. 12 VDC. Smart IR. DNR. IP67. 3.6/6/8/12mm Lens. Support TVI/AHD/CVI/CVBS video signal output | E21: =VLOOKUP(C21,'Короткий прайс'!A:B,2,0) -> 22 | F21: =ROUNDUP(E21*$J$1,0) -> 286000 | H21: =G21*E21 -> 0 | I21: =G21*F21 -> 0
C22: DS-2CE56D0T-IPF 2.8mm | D22: 2 MP Indoor Fixed Turret Camera High quality imaging with 2 MP, 1920 × 1080 resolution 2.8 mm, 3.6 mm fixed lens Up to 20 m IR distance for bright night imaging One port for four switchable signals (TVI/AHD/CVI/CVBS) | E22: =VLOOKUP(C22,'Короткий прайс'!A:B,2,0) -> 13 | F22: =ROUNDUP(E22*$J$1,0) -> 169000 | H22: =G22*E22 -> 0 | I22: =G22*F22 -> 0
A23: 300607867 | C23: DS-2CE56D8T-IRS(2.8mm)(O-STD) | D23: 2M Smart FSI CMOS Sensor. 20m IR. Outdoor ICR. 0.005 Lux/F1.2. 12 VDC. Smart IR. 3D DNR. built-in Mic .OSD Menu(Up the Coax). True WDR. 2.8/3.6/6mm Lens | E23: =VLOOKUP(C23,'Короткий прайс'!A:B,2,0) -> 20 | F23: =ROUNDUP(E23*$J$1,0) -> 260000 | H23: =G23*E23 -> 0 | I23: =G23*F23 -> 0
A24: 300614305 | C24: DS-2CE72DF3T-F(2.8mm)(O-STD) | D24: 2M BSI CMOS Sensor.Outdoor Turret.0.0005Lux/F1.0. 0 Lux with Friendly Lighting.40M.3D DNR.DC 12V.OSD Menu(Up the Coax). 130dB True WDR. IP67. 2.8/3.6/6mm Lens.24H Color.Support TVI/AHD/CVI/CVBS video signal output | E24: =VLOOKUP(C24,'Короткий прайс'!A:B,2,0) -> 32 | F24: =ROUNDUP(E24*$J$1,0) -> 416000 | H24: =G24*E24 -> 0 | I24: =G24*F24 -> 0
A25: 300613399 | C25: DS-2CE72DFT-PIRXOF(3.6mm)(O-STD) | D25: 2M Smart FSI CMOS Sensor.Outdoor Turret.0.0005Lux/F1.0.0 Lux with Friendly Lighting.20m.3D DNR.12 VDC.OSD Menu(Up the Coax). 130dB True WDR. IP67. 3.6/6mm Lens.24H Color，PIR Detection，Blue&Red Light Alarm，Built in Siren，Alarm Out ，Support TVI/AHD/CVI/CVBS video signal output | E25: =VLOOKUP(C25,'Короткий прайс'!A:B,2,0) -> 26 | F25: =ROUNDUP(E25*$J$1,0) -> 338000 | H25: =G25*E25 -> 0 | I25: =G25*F25 -> 0
A26: 300613382 | C26: DS-2CE72HFT-F(3.6mm)(O-STD) | D26: 5M BSI CMOS Sensor.5MP@20fps. 4MP@25fps(P)/30fps(N)(Default).Outdoor Turret.0.0005Lux/F1.0. 0 Lux with Friendly Lighting.20m.3D DNR.12 VDC.OSD Menu(Up the Coax). 130dB True WDR. IP67. 3.6/6mm Lens.24H Color ，Support TVI/AHD/CVI/CVBS video signal output | E26: =VLOOKUP(C26,'Короткий прайс'!A:B,2,0) -> 34 | F26: =ROUNDUP(E26*$J$1,0) -> 442000 | H26: =G26*E26 -> 0 | I26: =G26*F26 -> 0
A27: 300614205 | C27: DS-2CE76D0T-EXIPF(2.8mm)(O-STD) | D27: 2MP CMOS Sensor. 1 pcs EXIR LEDs. 20m IR. Indoor EXIR Turret. ICR. 0.02 Lux/F1.2. 12 VDC. Smart IR. DNR. 2.8/3.6mm Lens. Support TVI/AHD/CVI/CVBS video signal output | E27: =VLOOKUP(C27,'Короткий прайс'!A:B,2,0) -> 16 | F27: =ROUNDUP(E27*$J$1,0) -> 208000 | H27: =G27*E27 -> 0 | I27: =G27*F27 -> 0
A28: 300613302 | C28: DS-2CE76D0T-ITPFS(2.8mm)(O-STD) | D28: 2MP CMOS Sensor. 1080P@25fps(P)(Default)/30fps(N).EXIR. 20m IR. Outdoor EXIR Turret. ICR. 0.01 Lux/F1.2. 12 VDC. Smart IR. DNR. Built-in Mic.Audio up Coaxial(Only TVI).OSD Menu(Up the Coax). 2.8/3.6/6mm Lens，Support TVI/AHD/CVI/CVBS video signal output | E28: =VLOOKUP(C28,'Короткий прайс'!A:B,2,0) -> 18 | F28: =ROUNDUP(E28*$J$1,0) -> 234000 | H28: =G28*E28 -> 0 | I28: =G28*F28 -> 0
A29: 300613619 | C29: DS-2CE76H0T-ITPF(2.8mm)(O-STD)(C) | D29: 5MP@20fps. 4MP@25fps(P)/30fps(N)(Default). EXIR. 20m IR. Indoor EXIR Turret. ICR. 0.01 Lux/F1.2. 12 VDC. Smart IR. DNR. OSD Menu(Up the Coax). 2.4/2.8/3.6/6mm Lens.Support TVI/AHD/CVI/CVBS video signal output | E29: =VLOOKUP(C29,'Короткий прайс'!A:B,2,0) -> 25 | F29: =ROUNDUP(E29*$J$1,0) -> 325000 | H29: =G29*E29 -> 0 | I29: =G29*F29 -> 0
A30: 300613327 | C30: DS-2CE76H0T-ITPFS 2,8mm | D30: 5MP@20fps. 4MP@25fps(P)/30fps(N)(Default). EXIR. 20m IR. Outdoor EXIR Turret. ICR. 0.01 Lux/F1.2. 12 VDC. Smart IR. DNR. Built-in Mic.Audio up Coaxial(Only TVI).OSD Menu(Up the Coax). 2.8/3.6/6mm Lens，Support TVI/AHD/CVI/CVBS video signal output | E30: =VLOOKUP(C30,'Короткий прайс'!A:B,2,0) -> 32 | F30: =ROUNDUP(E30*$J$1,0) -> 416000 | H30: =G30*E30 -> 0 | I30: =G30*F30 -> 0

Sheet DVR
A1: Артикул | B1: Изображение | C1: Модель | D1: Характеристика | E1: Цена USD | F1: Цена с НДС | G1: Кол-во | H1: Сумма USD | I1: Сумма НДС | J1: 13000
A2: 300225510 | C2: DS-7104HGHI-K1 | D2: 4 Turbo HD/AHD/Analog interface input. 4-ch HDTVI coaxial video&audio input. 1-ch RCA audio input. 1 SATA interface. HD1080P Lite: 25(P)/30(N) fps/ch. mini 1U case | E2: =VLOOKUP(C2,'Короткий прайс'!A:B,2,0) -> 29.5 | F2: =ROUNDUP(E2*$J$1,0) -> 383500 | H2: =G2*E2 -> 0 | I2: =G2*F2 -> 0
A3: 300227172 | C3: DS-7104HQHI-K1(STD)(C)(S)/RUS | D3: 4 Turbo HD/AHD/Analog interface input. 4-ch HDTVI coaxial video&audio input. 1-ch RCA audio input. 2-ch IP video input(up to 6-ch IP).1 SATA interface.CH01: 3MP@15fps. CH01-04:1920×1080P/4MP Lite@15fps/ch. mini 1U case | E3: =VLOOKUP(C3,'Короткий прайс'!A:B,2,0) -> 45 | F3: =ROUNDUP(E3*$J$1,0) -> 585000 | H3: =G3*E3 -> 0 | I3: =G3*F3 -> 0
A4: 300224913 | C4: DS-7104HUHI-K1(STD)(S) | D4: 4 Turbo HD/CVI / AHD / CVBS self-adaptive interfaces input. 4-ch HDTVI coaxial video&audio input. 1-ch RCA audio input. 4-ch IP video input(up to 8-ch IP). 1 SATA interface. H.265/H.265+ compression. 5MP: 12fps. 4MP: 15fps. 3MP: 18fps. 1920×1080P: 25(P)/30(N) fps/ch. mini 1U case | E4: =VLOOKUP(C4,'Короткий прайс'!A:B,2,0) -> 51 | F4: =ROUNDUP(E4*$J$1,0) -> 663000 | H4: =G4*E4 -> 0 | I4: =G4*F4 -> 0
A5: 300225513 | C5: DS-7108HGHI-K1 | D5: 8 Turbo HD/AHD/Analog interface input. 8-ch video&1-ch audio input. 2-ch IP video input. HDMI & VGA Output. 1 SATA interface. HD1080P Lite: : 25(P)/30(N) fps/ch. mini 1U case | E5: =VLOOKUP(C5,'Короткий прайс'!A:B,2,0) -> 47 | F5: =ROUNDUP(E5*$J$1,0) -> 611000 | H5: =G5*E5 -> 0 | I5: =G5*F5 -> 0
A6: 300226918 | C6: DS-7108HQHI-K1(STD)(C)(S) | D6: 8 Turbo HD/AHD/Analog interface input. 8-ch HDTVI coaxial video&audio input. 1-ch RCA audio input. 4-ch IP video input(up to 12-ch IP).1 SATA interface.CH01&02:3MP@15fps. CH01-08:1920×1080P/4MP Lite@15fps/ch. mini 1U case | E6: =VLOOKUP(C6,'Короткий прайс'!A:B,2,0) -> 62 | F6: =ROUNDUP(E6*$J$1,0) -> 806000 | H6: =G6*E6 -> 0 | I6: =G6*F6 -> 0
A7: 300226914 | C7: DS-7116HGHI-K1(STD)(C)(S) | D7: Deep learning based human and vehicle targets classification of Motion Detection 2.0 H.265 Pro+/H.265 Pro/H.265 video compression HDTVI/AHD/CVI/CVBS/IP video input Audio via coaxial cable Up to 18-ch IP camera inputs (up to 5 MP) Up to 1080p Lite@15 fps encoding capability Max. 1200 m for 720p HDTVI signal | E7: =VLOOKUP(C7,'Короткий прайс'!A:B,2,0) -> 71 | F7: =ROUNDUP(E7*$J$1,0) -> 923000 | H7: =G7*E7 -> 0 | I7: =G7*F7 -> 0
A8: 300227875 | C8: iDS-7116HQHI-M1/S | D8: 16-ch motion detection2.0 or 4-ch false alarm filter. 16 Turbo HD/CVI / AHD / CVBS self-adaptive interfaces input. 16-ch video&1-ch audio input. H.265/H.265+ compression. 1 SATA interface.:1920×1080P @15 fps. 4MP Lite@15fps/ch. 4K UHD output，Mini 1U case | E8: =VLOOKUP(C8,'Короткий прайс'!A:B,2,0) -> 125 | F8: =ROUNDUP(E8*$J$1,0) -> 1625000 | H8: =G8*E8 -> 0 | I8: =G8*F8 -> 0
A9: 300226811 | C9: iDS-7208HQHI-M1/S | D9: 8-ch Motion Detection 2.0 or 4-ch false alarm filter. 8 Turbo HD/CVI / AHD / CVBS self-adaptive interfaces input. 8-ch video&1-ch audio input. H.265/H.265+ compression. 1 SATA interface.CH01 & 02: 3MP @ 15fps. CH01-08:1920×1080P @15 fps. 4MP Lite@15fps/ch. support CVBS output. standalone 1U case | E9: =VLOOKUP(C9,'Короткий прайс'!A:B,2,0) -> 80 | F9: =ROUNDUP(E9*$J$1,0) -> 1040000 | H9: =G9*E9 -> 0 | I9: =G9*F9 -> 0
A10: 300226811 | C10: IDS-7108HQHI-M1/S | D10: full-channel motion detection 2.0 or 4-ch false alarm filter, 8 Turbo HD/CVI / AHD / CVBS self-adaptive interfaces input, 8-ch video&1-ch audio input, H.265/H.265+ compression, 4-ch IP video input(up to 12-ch IP),1 SATA interface CH01-08:1920×1080P @15 fps, 4MP Lite@15fps/ch, mini 1U case | E10: =VLOOKUP(C10,'Короткий прайс'!A:B,2,0) -> 78 | F10: =ROUNDUP(E10*$J$1,0) -> 1014000 | H10: =G10*E10 -> 0 | I10: =G10*F10 -> 0

Sheet IP камеры
A1: Артикул | B1: Изображение | C1: Модель | D1: Характеристика | E1: Цена USD | F1: Цена с НДС | G1: Кол-во | H1: Сумма USD | I1: Сумма НДС | J1: 13000
A2: 311320661 | C2: DS-2CD1043G2-I 2,8MM | D2: Support Human and Vehicle Detection High quality imaging with 4 MP resolution Efficient H.265+ compression technology Clear imaging even with strong back lighting due to 120 dB WDR Water and dust resistant (IP67) EXIR 2.0: advanced infrared technology with long IR range -UF: Built-in microphone for real-time audio security | E2: =VLOOKUP(C2,'Короткий прайс'!A:B,2,0) -> 38.4 | F2: =ROUNDUP(E2*$J$1,0) -> 499200 | H2: =G2*E2 -> 0 | I2: =G2*F2 -> 0
C3: DS-2CD1043G0-I 2.8MM C | D3: 4MP Fixed Bullet Network Camera High quality imaging with 4 MP resolution Efficient H.265+ compression technology Clear imaging even with strong back lighting due to 120 dB WDR Water and dust resistant (IP67) EXIR 2.0: advanced infrared technology with long IR range -UF: Built-in microphone for real-time audio security | E3: =VLOOKUP(C3,'Короткий прайс'!A:B,2,0) -> 38 | F3: =ROUNDUP(E3*$J$1,0) -> 494000 | H3: =G3*E3 -> 0 | I3: =G3*F3 -> 0
C4: DS-2CD1043G2-IUF 2.8mm | D4: Support Human and Vehicle Detection High quality imaging with 4 MP resolution Efficient H.265+ compression technology Clear imaging even with strong back lighting due to 120 dB WDR Water and dust resistant (IP67) EXIR 2.0: advanced infrared technology with long IR range -UF: Built-in microphone for real-time audio security | E4: =VLOOKUP(C4,'Короткий прайс'!A:B,2,0) -> 43.3 | F4: =ROUNDUP(E4*$J$1,0) -> 562900 | H4: =G4*E4 -> 0 | I4: =G4*F4 -> 0
A5: 311320800 | C5: DS-2CD1047G2-L 2,8MM | D5: High quality imaging with 4 MP resolution 24/7 colorful imaging Support Human and Vehicle Detection Water and dust resistant (IP67) Clear imaging even with strong back lighting due to 120 dB WDR Efficient H.265+ compression technology Support on-board storage up to 256GB (SD card slot)(Optional) Built-in microphone for real-time audio security(Optional) | E5: =VLOOKUP(C5,'Короткий прайс'!A:B,2,0) -> 68 | F5: =ROUNDUP(E5*$J$1,0) -> 884000 | H5: =G5*E5 -> 0 | I5: =G5*F5 -> 0
C6: DS-2CD1047G2H-LIU 2.8MM | D6: 1/3" Progressive CMOS, ICR,2560 × 1440: 20fps(P)/(N), H.265+/H.265/H.264+&H.264, DWDR, 3D DNR, BLC, IR or white light range: up to 30m, Built-in microphone, DC12V & PoE, Support mobile monitoring via Hik-Connect; *-F: SD Card Slot (up to 512GB) *power supply is not included | E6: =VLOOKUP(C6,'Короткий прайс'!A:B,2,0) -> 68 | F6: =ROUNDUP(E6*$J$1,0) -> 884000 | H6: =G6*E6 -> 0 | I6: =G6*F6 -> 0
C7: DS-2CD1047G2H-LIUF 2.8MM | D7: 1/3" Progressive CMOS, ICR,2560 × 1440: 20fps(P)/(N), H.265+/H.265/H.264+&H.264, DWDR, 3D DNR, BLC, IR or white light range: up to 30m, Built-in microphone, DC12V & PoE, Support mobile monitoring via Hik-Connect; *-F: SD Card Slot (up to 512GB) *power supply is not included | E7: =VLOOKUP(C7,'Короткий прайс'!A:B,2,0) -> 72 | F7: =ROUNDUP(E7*$J$1,0) -> 936000 | H7: =G7*E7 -> 0 | I7: =G7*F7 -> 0
A8: 311320709 | C8: DS-2CD1143G2-I 2,8MM | D8: High quality imaging with 4 MP resolution Support Human and Vehicle Detection Water and dust resistant (IP67) and vandal resistant (IK10) Clear imaging even with strong back lighting due to 120 dB WDR Efficient H.265+ compression technology EXIR 2.0: advanced infrared technology with long IR range | E8: =VLOOKUP(C8,'Короткий прайс'!A:B,2,0) -> 44 | F8: =ROUNDUP(E8*$J$1,0) -> 572000 | H8: =G8*E8 -> 0 | I8: =G8*F8 -> 0
C9: DS-2CD1143G2-IUF 2.8mm | D9: 1/3" Progressive CMOS, ICR,2560x1440: 20fps(P)/(N), H.265+/H.265/H.264+&H.264, WDR, 3D DNR, BLC, IR range: up to 30m, DC12V & PoE, Support mobile monitoring via Hik-Connect; Build-in microphone & SD Card Slot (up to 256GB); *power supply is not included | E9: =VLOOKUP(C9,'Короткий прайс'!A:B,2,0) -> 47 | F9: =ROUNDUP(E9*$J$1,0) -> 611000 | H9: =G9*E9 -> 0 | I9: =G9*F9 -> 0
A10: 311312917 | C10: DS-2CV2041G2-IDW(2.8mm)(D)(O-STD)/FUS | D10: High quality imaging with 4 MP resolution Realizing Wi-Fi connection and easy installation Provides real-time security via built-in two-way audio Efficient H.265 compression technology EXIR 2.0. advanced infrared technology with long IR distance Wi-Fi connection with Hik-Connect directly is not possible Water and dust resistant (IP66) Built-in memory card slot. support microSD/microSDHC/microSDXC card. up to 256 GB | E10: =VLOOKUP(C10,'Короткий прайс'!A:B,2,0) -> 52 | F10: =ROUNDUP(E10*$J$1,0) -> 676000 | H10: =G10*E10 -> 0 | I10: =G10*F10 -> 0
A11: 311315990 | C11: DS-2CD1023G0E-I(2.8mm)(C)(O-STD) | D11: 1/2.8" Progressive CMOS. ICR. 1920x1080:25fps(P)/30fps(N). H.265+/H.264+&H.264. DWDR. 3D DNR. BLC. IR range: up to 30m. DC12V & PoE.Support mobile monitoring via Hik-Connect *power supply no included | E11: =VLOOKUP(C11,'Короткий прайс'!A:B,2,0) -> 27 | F11: =ROUNDUP(E11*$J$1,0) -> 351000 | H11: =G11*E11 -> 0 | I11: =G11*F11 -> 0
A12: 311315994 | C12: DS-2CD1023G0-IUF(2.8mm)(C)(O-STD) | D12: 1/2.8" Progressive CMOS. ICR. 1920x1080:25fps(P)/30fps(N). H.265+/H.265/H.264+&H.264. DWDR. 3D DNR. BLC. IR range: up to 30m. DC12V & PoE.Build-in microphone & SD Card Slot (up to 256GB). Support mobile monitoring via Hik-Connect *power supply not included | E12: =VLOOKUP(C12,'Короткий прайс'!A:B,2,0) -> 35.5 | F12: =ROUNDUP(E12*$J$1,0) -> 461500 | H12: =G12*E12 -> 0 | I12: =G12*F12 -> 0
C13: DS-2CD1027G2-LUF 2.8MM | D13: High quality imaging with 2 MP resolution 24/7 colorful imaging Support Human and Vehicle Detection Water and dust resistant (IP67) Efficient H.265+ compression technology Support on-board storage up to 256GB (SD card slot)(Optional) | E13: =VLOOKUP(C13,'Короткий прайс'!A:B,2,0) -> 46.5 | F13: =ROUNDUP(E13*$J$1,0) -> 604500 | H13: =G13*E13 -> 0 | I13: =G13*F13 -> 0
C14: DS-2CD1047G2-LUF 2.8MM | D14: High quality imaging with 4 MP resolution 24/7 colorful imaging Support Human and Vehicle Detection Water and dust resistant (IP67) Clear imaging even with strong back lighting due to 120 dB WDR Efficient H.265+ compression technology Support on-board storage up to 256GB (SD card slot)(Optional) | E14: =VLOOKUP(C14,'Короткий прайс'!A:B,2,0) -> 70 | F14: =ROUNDUP(E14*$J$1,0) -> 910000 | H14: =G14*E14 -> 0 | I14: =G14*F14 -> 0
A15: 311320796 | C15: DS-2CD1027G2-L 2,8MM | D15: 1/2.8" Progressive CMOS. Color: 0.001 Lux @ (F1.0. AGC ON)，1920x1080:25fps(P)/30fps(N). H.265+/H.265/H.264+&H.264. DWDR. 3D DNR. BLC. up to 30m warm light. DC12V & PoE. Full Metal. Support mobile monitoring via Hik-Connect *power supply no included | E15: =VLOOKUP(C15,'Короткий прайс'!A:B,2,0) -> 41 | F15: =ROUNDUP(E15*$J$1,0) -> 533000 | H15: =G15*E15 -> 0 | I15: =G15*F15 -> 0
A16: 311317399 | C16: DS-2CD1053G0-I(2.8mm)(C)(O-STD) | D16: 1/2.7" Progressive CMOS. ICR. 2560*1920:15fps(P)/(N). 2304x1296:25fps(P)/30fps(N). H.265+/H.265/H.264+&H.264. WDR. 3D DNR. BLC. IR range: up to 30m. DC12V & PoE.Support mobile monitoring via Hik-Connect *power supply no included | E16: =VLOOKUP(C16,'Короткий прайс'!A:B,2,0) -> 45.5 | F16: =ROUNDUP(E16*$J$1,0) -> 591500 | H16: =G16*E16 -> 0 | I16: =G16*F16 -> 0
A17: 311316327 | C17: DS-2CD1063G0-I(2.8mm)(Distribution) | D17: 1/2.5" Progressive CMOS. ICR. 3840 × 2160: 12.5fps(P)/15fps(N).H.265+/H.265. WDR. 3D DNR. BLC. HLC. IR range: up to 30m. DC12V & PoE. Support mobile monitoring via Hik-Connect; *power supply no included | E17: =VLOOKUP(C17,'Короткий прайс'!A:B,2,0) -> 54 | F17: =ROUNDUP(E17*$J$1,0) -> 702000 | H17: =G17*E17 -> 0 | I17: =G17*F17 -> 0
A18: 311317914 | C18: DS-2CD1083G0-I(2.8mm)(C)(O-STD) | D18: 1/2.5" Progressive CMOS. ICR. 3840 × 2160: 12.5fps(P)/15fps(N). H.265+/H.265. WDR. 3D DNR. BLC. HLC. IR range: up to 30m. DC12V & PoE. Support mobile monitoring via Hik-Connect; *power supply no included | E18: =VLOOKUP(C18,'Короткий прайс'!A:B,2,0) -> 82 | F18: =ROUNDUP(E18*$J$1,0) -> 1066000 | H18: =G18*E18 -> 0 | I18: =G18*F18 -> 0
C19: DS-2CD1083G2-LIU 2.8MM | D19: High quality imaging with 8 MP resolution Support Human and Vehicle Detection Smart Hybrid Light: advanced technology with long range Efficient H.265+ compression technology Support on-board storage up to 512 GB (SD card slot) (Optional) Built-in microphone for real-time audio security Water and dust resistant (IP67) | E19: =VLOOKUP(C19,'Короткий прайс'!A:B,2,0) -> 79 | F19: =ROUNDUP(E19*$J$1,0) -> 1027000 | H19: =G19*E19 -> 0 | I19: =G19*F19 -> 0
C20: DS-2CD1083G2-LIUF 2.8MM | D20: High quality imaging with 8 MP resolution Support Human and Vehicle Detection Smart Hybrid Light: advanced technology with long range Efficient H.265+ compression technology Support on-board storage up to 512 GB (SD card slot) (Optional) Built-in microphone for real-time audio security Water and dust resistant (IP67) | E20: =VLOOKUP(C20,'Короткий прайс'!A:B,2,0) -> 80 | F20: =ROUNDUP(E20*$J$1,0) -> 1040000 | H20: =G20*E20 -> 0 | I20: =G20*F20 -> 0
A21: 311315934 | C21: DS-2CD1123G0E-I(2.8mm)(C)(O-STD) | D21: 1/2.8" Progressive CMOS. ICR. 1920x1080:25fps(P)/30fps(N). H.265+/H.264+&H.264. DWDR. 3D DNR. BLC. IR range: up to 30m. DC12V & PoE.Support mobile monitoring via Hik-Connect *power supply no included | E21: =VLOOKUP(C21,'Короткий прайс'!A:B,2,0) -> 33 | F21: =ROUNDUP(E21*$J$1,0) -> 429000 | H21: =G21*E21 -> 0 | I21: =G21*F21 -> 0
C22: DS-2CD1123G2-LIU 2.8MM | D22: High quality imaging with 2 MP resolution Support Human and Vehicle Detection Smart Hybrid Light: advanced technology with long range Built-in microphone for real-time audio security Efficient H.265+ compression technology Support on-board storage up to 512 GB (SD card slot) (Optional) Water and dust resistant (IP67) and vandal resistant (IK08) | E22: =VLOOKUP(C22,'Короткий прайс'!A:B,2,0) -> 40 | F22: =ROUNDUP(E22*$J$1,0) -> 520000 | H22: =G22*E22 -> 0 | I22: =G22*F22 -> 0
C23: DS-2CD1143G2-LIU 2.8MM | D23: High quality imaging with 4 MP resolution Support Human and Vehicle Detection Smart Hybrid Light: advanced technology with long range Built-in microphone for real-time audio security Efficient H.265+ compression technology Support on-board storage up to 512 GB (SD card slot) (Optional) Water and dust resistant (IP67) and vandal resistant (IK08) | E23: =VLOOKUP(C23,'Короткий прайс'!A:B,2,0) -> 46.7 | F23: =ROUNDUP(E23*$J$1,0) -> 607100 | H23: =G23*E23 -> 0 | I23: =G23*F23 -> 0
A24: 311320709 | C24: DS-2CD1143G2-I 2,8MM | D24: 1/3" Progressive CMOS. ICR. 2560x1440:20fps(P)/(N). 2304x1296:25fps(P)/30fps(N). H.265+/H.265/H.264+&H.264. WDR. 3D DNR. BLC. IR range: up to 30m. DC12V & PoE.Support mobile monitoring via Hik-Connect *power supply no included Motion detection 2.0 | E24: =VLOOKUP(C24,'Короткий прайс'!A:B,2,0) -> 44 | F24: =ROUNDUP(E24*$J$1,0) -> 572000 | H24: =G24*E24 -> 0 | I24: =G24*F24 -> 0
A25: 311303659 | C25: DS-2CD1153G0-I(2.8mm)(O-STD) | D25: 1/2.7" Progressive CMOS. ICR. 2560*1920:15fps(P)/(N). 2304x1296:25fps(P)/30fps(N). H.265+/H.265/H.264+&H.264. WDR. 3D DNR. BLC. IR range: up to 30m. DC12V & PoE.Support mobile monitoring via Hik-Connect *power supply no included | E25: =VLOOKUP(C25,'Короткий прайс'!A:B,2,0) -> 52 | F25: =ROUNDUP(E25*$J$1,0) -> 676000 | H25: =G25*E25 -> 0 | I25: =G25*F25 -> 0
A26: 311316329 | C26: DS-2CD1163G0-I(2.8mm)(Distribution) | D26: 1/2.5" Progressive CMOS. ICR. 3840 × 2160: 12.5fps(P)/15fps(N).H.265+/H.265/. WDR. 3D DNR. BLC. HLC. IR range: up to 30m. DC12V & PoE. Support mobile monitoring via Hik-Connect; *power supply no included | E26: =VLOOKUP(C26,'Короткий прайс'!A:B,2,0) -> 52.5 | F26: =ROUNDUP(E26*$J$1,0) -> 682500 | H26: =G26*E26 -> 0 | I26: =G26*F26 -> 0
A27: 311316015 | C27: DS-2CD1323G0E-I(2.8mm)(C)(O-STD) | D27: 1/2.8" Progressive CMOS. ICR. 1920x1080:25fps(P)/30fps(N). H.265+/H.264+&H.264. DWDR. 3D DNR. BLC. IR range: up to 30m. DC12V & PoE.Support mobile monitoring via Hik-Connect *power supply no included | E27: =VLOOKUP(C27,'Короткий прайс'!A:B,2,0) -> 29 | F27: =ROUNDUP(E27*$J$1,0) -> 377000 | H27: =G27*E27 -> 0 | I27: =G27*F27 -> 0
A28: 311316011 | C28: DS-2CD1323G0-IUF(2.8mm)(C)(O-STD) | D28: 1/2.8" Progressive CMOS. ICR. 1920x1080:25fps(P)/30fps(N). H.265+/H.265/H.264+&H.264. DWDR. 3D DNR. BLC. IR range: up to 30m. DC12V & PoE.Build-in microphone & SD Card Slot (up to 256GB). Support mobile monitoring via Hik-Connect *power supply not included | E28: =VLOOKUP(C28,'Короткий прайс'!A:B,2,0) -> 35.8 | F28: =ROUNDUP(E28*$J$1,0) -> 465400 | H28: =G28*E28 -> 0 | I28: =G28*F28 -> 0
C29: DS-2CD1323G2-LIU 2.8MM | D29: High quality imaging with 2 MP resolution Support Human and Vehicle Detection Smart Hybrid Light: advanced technology with long range Built-in microphone for real-time audio security Efficient H.265+ compression technology Support on-board storage up to 512 GB (SD card slot) (Optional) Water and dust resistant (IP67) | E29: =VLOOKUP(C29,'Короткий прайс'!A:B,2,0) -> 44 | F29: =ROUNDUP(E29*$J$1,0) -> 572000 | H29: =G29*E29 -> 0 | I29: =G29*F29 -> 0
A30: 311316792 | C30: DS-2CD1327G0-L(2.8mm)(C)(O-STD) | D30: 1/2.7" Progressive CMOS. ICR.1920 × 1080: 25fps(P)/30fps(N). H.265+/H.265/H.264+&H.264. DWDR. 3D DNR. BLC. Warm light range: up to 30m. DC12V & PoE. Support mobile monitoring via Hik-Connect *-UF: Build-in microphone & SD Card Slot (up to 256GB). *power supply is not included | E30: =VLOOKUP(C30,'Короткий прайс'!A:B,2,0) -> 43 | F30: =ROUNDUP(E30*$J$1,0) -> 559000 | H30: =G30*E30 -> 0 | I30: =G30*F30 -> 0
A31: 311320738 | C31: DS-2CD1343G2-I 2,8MM | D31: 1/3" Progressive CMOS. ICR. 2560x1440:20fps(P)/(N). 2304x1296:25fps(P)/30fps(N). H.265+/H.265/H.264+&H.264. WDR. 3D DNR. BLC. IR range: up to 30m. DC12V & PoE.Support mobile monitoring via Hik-Connect *power supply no included | E31: =VLOOKUP(C31,'Короткий прайс'!A:B,2,0) -> 41 | F31: =ROUNDUP(E31*$J$1,0) -> 533000 | H31: =G31*E31 -> 0 | I31: =G31*F31 -> 0
C32: DS-2CD1343G2-IUF 2.8mm | D32: 1/3" Progressive CMOS, ICR,2560x1440: 20fps(P)/(N), H.265+/H.265/H.264+&H.264, WDR, 3D DNR, BLC, IR range: up to 30m, DC12V & PoE, Support mobile monitoring via Hik-Connect *-UF: Build-in microphone & SD Card Slot (up to 256GB), *power supply is not included | E32: =VLOOKUP(C32,'Короткий прайс'!A:B,2,0) -> 46.5 | F32: =ROUNDUP(E32*$J$1,0) -> 604500 | H32: =G32*E32 -> 0 | I32: =G32*F32 -> 0
C33: DS-2CD1343G2-LIU 2.8MM | D33: High quality imaging with 4 MP resolution Support Human and Vehicle Detection Smart Hybrid Light: advanced technology with long range Built-in microphone for real-time audio security Efficient H.265+ compression technology Support on-board storage up to 512 GB (SD card slot) (Optional) Water and dust resistant (IP67) | E33: =VLOOKUP(C33,'Короткий прайс'!A:B,2,0) -> 47 | F33: =ROUNDUP(E33*$J$1,0) -> 611000 | H33: =G33*E33 -> 0 | I33: =G33*F33 -> 0
A34: 311316796 | C34: DS-2CD1347G0-L(2.8mm)(C)(O-STD) | D34: 1/2.7" Progressive CMOS. ICR.2560 × 1440: 20fps(P)/(N). H.265+/H.265/H.264+&H.264. WDR. 3D DNR. BLC. Warm light range: up to 30m. DC12V & PoE. Support mobile monitoring via Hik-Connect *-UF: Build-in microphone & SD Card Slot (up to 256GB). *power supply is not included | E34: =VLOOKUP(C34,'Короткий прайс'!A:B,2,0) -> 64 | F34: =ROUNDUP(E34*$J$1,0) -> 832000 | H34: =G34*E34 -> 0 | I34: =G34*F34 -> 0
A35: 311317761 | C35: DS-2CD1383G0-I 2.8MM C | D35: 1/2.5" Progressive CMOS, ICR, 3840 × 2160: 12.5fps(P)/15fps(N), H.265+/H.265, WDR, 3D DNR, BLC, HLC, IR range: up to 30m, DC12V & PoE, Support mobile monitoring via Hik-Connect; *power supply no included | E35: =VLOOKUP(C35,'Короткий прайс'!A:B,2,0) -> 85.5 | F35: =ROUNDUP(E35*$J$1,0) -> 1111500 | H35: =G35*E35 -> 0 | I35: =G35*F35 -> 0
A36: 311316237 | C36: DS-2CD1643G0-IZ(2.8-12mm)(C)(O-STD) | D36: 1/3" Progressive CMOS. ICR. 2560x1440:20fps(P)/(N). 2304x1296:25fps(P)/30fps(N). H.265+/H.265/H.264+&H.264. WDR. 3D DNR. BLC. IR range: up to 30m. DC12V & PoE. TF card slot. Support mobile monitoring via Hik-Connect *power supply no included -Z: motorized vari-focal lens | E36: =VLOOKUP(C36,'Короткий прайс'!A:B,2,0) -> #N/A | F36: =ROUNDUP(E36*$J$1,0) -> #N/A | H36: =G36*E36 -> #N/A | I36: =G36*F36 -> #N/A
C37: DS-2CD1643G2-IZ 2.8-12mm | D37: High quality imaging with 4 MP resolution Support Human and Vehicle Detection 2.8 to 12 mm motorized varifocal lens for easy installation and monitoring Up to 256 GB memory card slot for storage Water and dust resistant (IP67) EXIR 2.0: advanced infrared technology with long IR range Clear imaging even with strong back lighting due to 120 dB WDR technology Efficient H.265+ compression technology | E37: =VLOOKUP(C37,'Короткий прайс'!A:B,2,0) -> 92 | F37: =ROUNDUP(E37*$J$1,0) -> 1196000 | H37: =G37*E37 -> 0 | I37: =G37*F37 -> 0
A38: 311304044 | C38: DS-2CD1653G0-IZ(2.8-12mm)(O-STD) | D38: 1/2.7" Progressive CMOS. ICR. 2560*1920:15fps(P)/(N). 2304x1296:25fps(P)/30fps(N). H.265+/H.265/H.264+&H.264. WDR. 3D DNR. BLC. IR range: up to 30m. DC12V & PoE. TF card slot. Support mobile monitoring via Hik-Connect *power supply no included -Z: motorized vari-focal lens | E38: =VLOOKUP(C38,'Короткий прайс'!A:B,2,0) -> 95.9 | F38: =ROUNDUP(E38*$J$1,0) -> 1246700 | H38: =G38*E38 -> 0 | I38: =G38*F38 -> 0
A39: 311310905 | C39: DS-2CD2027G1-L(2.8mm)(O-STD) | D39: 1/2.8" Progressive Scan CMOS; H.265+/H.265/H.264+/H.264/MJPEG; Color: 0.0005 lux @(F1.0. AGC ON). 0 lux with LED on; 25fps/30fps(1920×1080); VCA functions; 3 streams; 3D DNR; BLC; ICR; 3000K Warm LED; DC12V&PoE; Built-in micro SD/SDHC/SDXC slot; HIK-Connect cloud service -U:Built-in micphone | E39: =VLOOKUP(C39,'Короткий прайс'!A:B,2,0) -> 77 | F39: =ROUNDUP(E39*$J$1,0) -> 1001000 | H39: =G39*E39 -> 0 | I39: =G39*F39 -> 0
C40: DS-2CD2027G2-L 2.8MM C | D40: 1/2.8" Progressive Scan CMOS; H.265+/H.265/H.264+/H.264/MJPEG; Color: 0.0005 lux @(F1.0. AGC ON). 0 lux with LED on; 25fps/30fps(1920×1080); VCA functions; 3 streams; 3D DNR; BLC; ICR; 3000K Warm LED; DC12V&PoE; Built-in micro SD/SDHC/SDXC slot; HIK-Connect cloud service -U:Built-in micphone | E40: =VLOOKUP(C40,'Короткий прайс'!A:B,2,0) -> 77 | F40: =ROUNDUP(E40*$J$1,0) -> 1001000 | H40: =G40*E40 -> 0 | I40: =G40*F40 -> 0
...

Sheet NVR
A1: Артикул | B1: Изображение | C1: Модель | D1: Характеристика | E1: Цена USD | F1: Цена с НДС | G1: Кол-во | H1: Сумма USD | I1: Сумма НДС | J1: 13000
A2: 303613783 | C2: DS-7104NI-Q1(STD)(C) | D2: 40Mbps Bit Rate Input Max (up to 4-ch IP video). 1 SATA interface. mini 1U case(Plastic) | E2: =VLOOKUP(C2,'Короткий прайс'!A:B,2,0) -> 37 | F2: =ROUNDUP(E2*$J$1,0) -> 481000 | H2: =G2*E2 -> 0 | I2: =G2*F2 -> 0
A3: 303613785 | C3: DS-7108NI-Q1(STD)(C) | D3: 60Mbps Bit Rate Input Max (up to 8-ch IP video). 1 SATA interface. mini 1U case(Plastic) | E3: =VLOOKUP(C3,'Короткий прайс'!A:B,2,0) -> 41.5 | F3: =ROUNDUP(E3*$J$1,0) -> 539500 | H3: =G3*E3 -> 0 | I3: =G3*F3 -> 0
A4: 303613785 | C4: DS-7108NI-Q1/8P | D4: H.265+/H.265/H.264+/H.264 video compression Up to 60 Mbps incoming bandwidth, and 60 Mbps outgoing bandwidth Up to 8-ch network camera inputs Up to 4-ch 1080p decoding capability HDMI and VGA simultaneous output | E4: =VLOOKUP(C4,'Короткий прайс'!A:B,2,0) -> 67 | F4: =ROUNDUP(E4*$J$1,0) -> 871000 | H4: =G4*E4 -> 0 | I4: =G4*F4 -> 0
A5: 303613785 | C5: DS-7116NI-Q1/M | D5: 4-ch 1080P. or 1-ch 4K.160Mbps Bit Rate Input Max (up to 16-ch IP video). 1 SATA interface. standalone 1U case | E5: =VLOOKUP(C5,'Короткий прайс'!A:B,2,0) -> 70 | F5: =ROUNDUP(E5*$J$1,0) -> 910000 | H5: =G5*E5 -> 0 | I5: =G5*F5 -> 0
A6: 303613462 | C6: DS-7604NI-K1(STD)(C) | D6: 40Mbps Bit Rate Input Max (up to 4-ch IP video). 1 SATA interface. standalone 1U case | E6: =VLOOKUP(C6,'Короткий прайс'!A:B,2,0) -> 57.9 | F6: =ROUNDUP(E6*$J$1,0) -> 752700 | H6: =G6*E6 -> 0 | I6: =G6*F6 -> 0
A7: 303613392 | C7: DS-7604NI-Q1(STD)(C) | D7: 4-ch 1080P. or 1-ch 4K.40Mbps Bit Rate Input Max (up to 4-ch IP video). 1 SATA interface. standalone 1U case | E7: =VLOOKUP(C7,'Короткий прайс'!A:B,2,0) -> 52 | F7: =ROUNDUP(E7*$J$1,0) -> 676000 | H7: =G7*E7 -> 0 | I7: =G7*F7 -> 0
C8: DS-7604NXI-K1 | D8: Up to 4-ch IP camera inputs H.265+/H.265/H.264+/H.264 video formats Up to 1-ch@12 MP or 2-ch@8 MP or 4-ch@4 MP or 8-ch@1080p decoding capacity Up to 40 Mbps incoming bandwidth Adopt Hikvision Acusense technology to minimize manual effort and security costs | E8: =VLOOKUP(C8,'Короткий прайс'!A:B,2,0) -> 57.9 | F8: =ROUNDUP(E8*$J$1,0) -> 752700 | H8: =G8*E8 -> 0 | I8: =G8*F8 -> 0
A9: 303613466 | C9: DS-7608NI-K1(STD)(C) | D9: 80Mbps Bit Rate Input Max (up to 8-ch IP video). 1 SATA interfaces. standalone 1U case | E9: =VLOOKUP(C9,'Короткий прайс'!A:B,2,0) -> 60 | F9: =ROUNDUP(E9*$J$1,0) -> 780000 | H9: =G9*E9 -> 0 | I9: =G9*F9 -> 0
A10: 303613396 | C10: DS-7608NI-Q1(STD)(C) | D10: 4-ch 1080P. or 1-ch 4K.80Mbps Bit Rate Input Max (up to 8-ch IP video). 1 SATA interfaces. standalone 1U case | E10: =VLOOKUP(C10,'Короткий прайс'!A:B,2,0) -> 55.3 | F10: =ROUNDUP(E10*$J$1,0) -> 718900 | H10: =G10*E10 -> 0 | I10: =G10*F10 -> 0
A11: 303613384 | C11: DS-7608NI-Q2 | D11: 80Mbps Bit Rate Input Max (up to 8-ch IP video). 2 SATA interfaces. 380 1U case | E11: =VLOOKUP(C11,'Короткий прайс'!A:B,2,0) -> 80 | F11: =ROUNDUP(E11*$J$1,0) -> 1040000 | H11: =G11*E11 -> 0 | I11: =G11*F11 -> 0
C12: DS-7608NXI-K1 | D12: 8-ch 1U K Series AcuSense 4K NVR Up to 8-ch IP camera inputs H.265+/H.265/H.264+/H.264 video formats Up to 1-ch@12 MP or 2-ch@8 MP or 4-ch@4 MP or 8-ch@1080p decoding capacity Up to 80 Mbps incoming bandwidth Adopt Hikvision Acusense technology to minimize manual effort and security costs | E12: =VLOOKUP(C12,'Короткий прайс'!A:B,2,0) -> 61 | F12: =ROUNDUP(E12*$J$1,0) -> 793000 | H12: =G12*E12 -> 0 | I12: =G12*F12 -> 0
C13: DS-7608NXI-K2 | D13: 8-ch 1U K Series AcuSense 4K NVR Up to 8-ch IP camera inputs H.265+/H.265/H.264+/H.264 video formats Up to 2-ch@12 MP or 3-ch@8 MP or 6-ch@4 MP or 12-ch@1080p decoding capacity Up to 80 Mbps incoming bandwidth Adopt Hikvision Acusense technology to minimize manual effort and security costs | E13: =VLOOKUP(C13,'Короткий прайс'!A:B,2,0) -> 90 | F13: =ROUNDUP(E13*$J$1,0) -> 1170000 | H13: =G13*E13 -> 0 | I13: =G13*F13 -> 0
A14: 303613470 | C14: DS-7616NI-K1(STD)(C) | D14: 160Mbps Bit Rate Input Max (up to 16-ch IP video). 1 SATA interface. standalone 1U case | E14: =VLOOKUP(C14,'Короткий прайс'!A:B,2,0) -> 78.2 | F14: =ROUNDUP(E14*$J$1,0) -> 1016600 | H14: =G14*E14 -> 0 | I14: =G14*F14 -> 0
A15: 303603692 | C15: DS-7616NI-K2(STD) | D15: 160Mbps Bit Rate Input Max (up to 16-ch IP video). 2 SATA interfaces. 380 1U case. alarm I/O: 4/1 | E15: =VLOOKUP(C15,'Короткий прайс'!A:B,2,0) -> 108 | F15: =ROUNDUP(E15*$J$1,0) -> 1404000 | H15: =G15*E15 -> 0 | I15: =G15*F15 -> 0
A16: 303613400 | C16: DS-7616NI-Q1(STD)(C) | D16: 4-ch 1080P. or 1-ch 4K.160Mbps Bit Rate Input Max (up to 16-ch IP video). 1 SATA interface. standalone 1U case | E16: =VLOOKUP(C16,'Короткий прайс'!A:B,2,0) -> 68.5 | F16: =ROUNDUP(E16*$J$1,0) -> 890500 | H16: =G16*E16 -> 0 | I16: =G16*F16 -> 0
A17: 303613388 | C17: DS-7616NI-Q2(STD)(C) | D17: 160Mbps Bit Rate Input Max (up to 16-ch IP video). 2 SATA interfaces. 380 1U case | E17: =VLOOKUP(C17,'Короткий прайс'!A:B,2,0) -> 82 | F17: =ROUNDUP(E17*$J$1,0) -> 1066000 | H17: =G17*E17 -> 0 | I17: =G17*F17 -> 0
C18: DS-7616NXI-K1 | D18: Up to 16-ch IP camera inputs H.265+/H.265/H.264+/H.264 video formats Up to 1-ch@12 MP or 2-ch@8 MP or 4-ch@4 MP or 8-ch@1080p decoding capacity Up to 160 Mbps incoming bandwidth Adopt Hikvision Acusense technology to minimize manual effort and security costs | E18: =VLOOKUP(C18,'Короткий прайс'!A:B,2,0) -> 78.2 | F18: =ROUNDUP(E18*$J$1,0) -> 1016600 | H18: =G18*E18 -> 0 | I18: =G18*F18 -> 0
C19: DS-7616NXI-K2 | D19: Up to 16-ch IP camera inputs H.265+/H.265/H.264+/H.264 video formats Up to 2-ch@12 MP or 3-ch@8 MP or 6-ch@4 MP or 12-ch@1080p decoding capacity Up to 160 Mbps incoming bandwidth Adopt Hikvision Acusense technology to minimize manual effort and security costs | E19: =VLOOKUP(C19,'Короткий прайс'!A:B,2,0) -> 115 | F19: =ROUNDUP(E19*$J$1,0) -> 1495000 | H19: =G19*E19 -> 0 | I19: =G19*F19 -> 0
A20: 303603694 | C20: DS-7632NI-K2(STD) | D20: 160Mbps Bit Rate Input Max(up to 16-ch IP video). 4 SATA Interfaces.2 HDMI ouputs.1 VGA port. 1 CVBS output. alarm I/O: 16/4. 1.5U case.19" | E20: =VLOOKUP(C20,'Короткий прайс'!A:B,2,0) -> 160 | F20: =ROUNDUP(E20*$J$1,0) -> 2080000 | H20: =G20*E20 -> 0 | I20: =G20*F20 -> 0
A21: 303607718 | C21: DS-7716NI-I4(B)(STD) | D21: 160Mbps Bit Rate Input Max(up to 16-ch IP video). 4 SATA Interfaces.2 HDMI ouputs.1 VGA port. 1 CVBS output. alarm I/O: 16/4. 1.5U case.19" | E21: =VLOOKUP(C21,'Короткий прайс'!A:B,2,0) -> 300 | F21: =ROUNDUP(E21*$J$1,0) -> 3900000 | H21: =G21*E21 -> 0 | I21: =G21*F21 -> 0
A22: 303609054 | C22: DS-7716NI-Q4(STD) | D22: 160Mbps Bit Rate Input Max(up to 16-ch IP video). 4 SATA Interfaces. alarm I/O: 16/4. 1.5U case.19" | E22: =VLOOKUP(C22,'Короткий прайс'!A:B,2,0) -> 175 | F22: =ROUNDUP(E22*$J$1,0) -> 2275000 | H22: =G22*E22 -> 0 | I22: =G22*F22 -> 0
A23: 303607722 | C23: DS-7732NI-I4(B)(STD) | D23: 256Mbps Bit Rate Input Max(up to 32-ch IP video). 4 SATA Interfaces. 2 HDMI ouputs.1 VGA port. 1 CVBS output.1 eSATA.alarm I/O: 16/4. 1.5U case.19" | E23: =VLOOKUP(C23,'Короткий прайс'!A:B,2,0) -> 326 | F23: =ROUNDUP(E23*$J$1,0) -> 4238000 | H23: =G23*E23 -> 0 | I23: =G23*F23 -> 0
A24: 303603706 | C24: DS-7732NI-K4(STD) | D24: 256Mbps Bit Rate Input Max(up to 32-ch IP video). 4 SATA Interfaces. alarm I/O: 16/4. 1.5U case.19" | E24: =VLOOKUP(C24,'Короткий прайс'!A:B,2,0) -> 189.8 | F24: =ROUNDUP(E24*$J$1,0) -> 2467400 | H24: =G24*E24 -> 0 | I24: =G24*F24 -> 0
C25: DS-7764NI-M4 | D25: H.265+/H.265/H.264+/H.264 video formats Up to 64-ch IP camera inputs Up to 2-ch@32 MP/2-ch@24 MP/4-ch@12 MP/8-ch@8 MP/16-ch@4 MP/32-ch@1080p decoding capacity Up to 400 Mbps incoming bandwidth and 400 Mbps outgoing bandwidth 2 HDMI and 1 VGA interfaces, 8K or dual 4K video outputs | E25: =VLOOKUP(C25,'Короткий прайс'!A:B,2,0) -> 545 | F25: =ROUNDUP(E25*$J$1,0) -> 7085000 | H25: =G25*E25 -> 0 | I25: =G25*F25 -> 0
C26: DS-7716NI-M4 | D26: H.265+/H.265/H.264+/H.264 video formats Up to 16-ch IP camera inputs Up to 16-ch@4 MP decoding capacity Up to 256 Mbps incoming bandwidth | E26: =VLOOKUP(C26,'Короткий прайс'!A:B,2,0) -> 330 | F26: =ROUNDUP(E26*$J$1,0) -> 4290000 | H26: =G26*E26 -> 0 | I26: =G26*F26 -> 0
C27: DS-7104NI-S1/W | D27: 4-ch Mini Wi-Fi NVS Equipped with Wi Fi hotspot, one click to add wireless IPC Supports Micro SD card storage, up to 512GB Through the HC App, initialization configurations such as scanning and adding devices, formatting storage media, and adding IPC with just one click are completed, enabling remote preview and playback, channel intercom, pan tilt control, and other operations Through the HC App, device sharing, channel management, storage media management, recording plan settings, message settings, video encryption, and other configurations can be performed | E27: =VLOOKUP(C27,'Короткий прайс'!A:B,2,0) -> 26 | F27: =ROUNDUP(E27*$J$1,0) -> 338000 | H27: =G27*E27 -> 0 | I27: =G27*F27 -> 0
C28: NKS422W0H | D28: 2MP H.265 TWO bullet WiFi NVS Kit Easy and quick wireless installation All cameras can be linked with NVS at one time Secure and integrated video storage, all videos are stored in NVS Up to 512 GB Micro SD card storage capacity Remote mobile phone management, all functions can be performed through Hik-Connect, such as camera adding, two-way audio, live view, playback, etc. Accurate motion detection function Smart IR and white light Built-in mic and speaker for two-way audio 2 fixed bullet cameras with 2 MP resolution and 2.8 mm focal length | E28: =VLOOKUP(C28,'Короткий прайс'!A:B,2,0) -> 96 | F28: =ROUNDUP(E28*$J$1,0) -> 1248000 | H28: =G28*E28 -> 0 | I28: =G28*F28 -> 0
C29: NKS422W03H | D29: 2MP H.265 One bullet + One PTDome WiFi NVS Kit Easy and quick wireless installation All cameras can be linked with NVS at one time Secure and integrated video storage, all videos are stored in NVS Up to 512 GB Micro SD card storage capacity Remote mobile phone management, all functions can be performed through Hik-Connect, such as camera adding, two-way audio, live view, playback, etc. Accurate motion detection function Smart IR and white light Built-in mic and speaker for two-way audio 1 fixed PT turret camera and 1 fixed Speed Dome camera, both with 2 MP resolution and 2.8 mm focal length | E29: =VLOOKUP(C29,'Короткий прайс'!A:B,2,0) -> 135 | F29: =ROUNDUP(E29*$J$1,0) -> 1755000 | H29: =G29*E29 -> 0 | I29: =G29*F29 -> 0
C30: DS-7102NI-S1/W | D30: 2-ch Mini Wi-Fi NVS Equipped with Wi Fi hotspot, one click to add wireless IPC Supports Micro SD card storage, up to 512GB Through the HC App, initialization configurations such as scanning and adding devices, formatting storage media, and adding IPC with just one click are completed, enabling remote preview and playback, channel intercom, pan tilt control, and other operations Through the HC App, device sharing, channel management, storage media management, recording plan settings, message settings, video encryption, and other configurations can be performed | E30: =VLOOKUP(C30,'Короткий прайс'!A:B,2,0) -> 25 | F30: =ROUNDUP(E30*$J$1,0) -> 325000 | H30: =G30*E30 -> 0 | I30: =G30*F30 -> 0
C31: DS-7632NXI-K2 | D31: 32-ch 1U K Series AcuSense 4K NVR Up to 32-ch IP camera inputs H.265+/H.265/H.264+/H.264 video formats Up to 2-ch@12 MP or 3-ch@8 MP or 6-ch@4 MP or 12-ch@1080p decoding capacity Up to 256 Mbps incoming bandwidth Adopt Hikvision Acusense technology to minimize manual effort and security costs | E31: =VLOOKUP(C31,'Короткий прайс'!A:B,2,0) -> 165 | F31: =ROUNDUP(E31*$J$1,0) -> 2145000 | H31: =G31*E31 -> 0 | I31: =G31*F31 -> 0
C32: NKS422W02H | D32: 2MP H.265 One bullet + One turret WiFi NVS Kit Easy and quick wireless installation All cameras can be linked with NVS at one time Secure and integrated video storage, all videos are stored in NVS Up to 512 GB Micro SD card storage capacity Remote mobile phone management, all functions can be performed through Hik-Connect, such as camera adding, two-way audio, live view, playback, etc. Accurate motion detection function Smart IR and white light Built-in mic and speaker for two-way audio 1 fixed PT turret camera and 1 fixed bullet camera, both with 2 MP resolution and 2.8 mm focal length | E32: =VLOOKUP(C32,'Короткий прайс'!A:B,2,0) -> 102 | F32: =ROUNDUP(E32*$J$1,0) -> 1326000 | H32: =G32*E32 -> 0 | I32: =G32*F32 -> 0
C33: NKS424W02H | D33: 4MP H.265 One bullet + One turret WiFi NVS Kit Easy and quick wireless installation All cameras can be linked with NVS at one time Secure and integrated video storage, all videos are stored in NVS Up to 512 GB Micro SD card storage capacity Remote mobile phone management, all functions can be performed through Hik-Connect, such as camera adding, two-way audio, live view, playback, etc. Accurate motion detection function Smart IR and white light Built-in mic and speaker for two-way audio 1 fixed PT turret camera and 1 fixed bullet camera, both with 4 MP resolution and 2.8 mm focal length | E33: =VLOOKUP(C33,'Короткий прайс'!A:B,2,0) -> 110 | F33: =ROUNDUP(E33*$J$1,0) -> 1430000 | H33: =G33*E33 -> 0 | I33: =G33*F33 -> 0
C34: NKS424W03H | D34: 4MP H.265 One bullet + One PTDome WiFi NVS Kit Easy and quick wireless installation All cameras can be linked with NVS at one time Secure and integrated video storage, all videos are stored in NVS Up to 512 GB Micro SD card storage capacity Remote mobile phone management, all functions can be performed through Hik-Connect, such as camera adding, two-way audio, live view, playback, etc. Accurate motion detection function Smart IR and white light Built-in mic and speaker for two-way audio 1 fixed PT turret camera and 1 fixed Speed Dome camera, both with 4 MP resolution and 2.8 mm focal length | E34: =VLOOKUP(C34,'Короткий прайс'!A:B,2,0) -> 128 | F34: =ROUNDUP(E34*$J$1,0) -> 1664000 | H34: =G34*E34 -> 0 | I34: =G34*F34 -> 0
C35: NKS424W0H | D35: 4MP H.265 TWO bullet WiFi NVS Kit Easy and quick wireless installation All cameras can be linked with NVS at one time Secure and integrated video storage, all videos are stored in NVS Up to 512 GB Micro SD card storage capacity Remote mobile phone management, all functions can be performed through Hik-Connect, such as camera adding, two-way audio, live view, playback, etc. Accurate motion detection function Smart IR and white light Built-in mic and speaker for two-way audio 2 fixed bullet cameras with 4 MP resolution and 2.8 mm focal length | E35: =VLOOKUP(C35,'Короткий прайс'!A:B,2,0) -> 106 | F35: =ROUNDUP(E35*$J$1,0) -> 1378000 | H35: =G35*E35 -> 0 | I35: =G35*F35 -> 0

Sheet Проектное оборудование
A1: Артикул | B1: Изображение | C1: Модель | D1: Характеристика | E1: Цена USD | F1: Цена с НДС | G1: Кол-во | H1: Сумма USD | I1: Сумма НДС | J1: 13000
A2: 303613590 | C2: DS-7608NXI-I2/S(STD)(C) | D2: 4-ch false alarm reduction through human and vehicle target classification based on deep learning Up to 1-ch video stream face recognition based on deep learning algorithm Up to 16 face databases with 10.000 face images in total Up to 16-ch @ 1080p decoding capacity 1 HDMI and 1 VGA interfaces: both interfaces support independent video output Up to 12 MP high-definition live view. storage and playback 2 HDDs for continuous video recording | E2: =VLOOKUP(C2,'Короткий прайс'!A:B,2,0) -> 250 | F2: =ROUNDUP(E2*$J$1,0) -> 3250000 | H2: =G2*E2 -> 0 | I2: =G2*F2 -> 0
A3: 303613591 | C3: DS-7716NXI-K4 | D3: All-ch Motion Detection 2.0 Up to 2-ch false alarm reduction through human and vehicle target classification based on deep learning Up to 1-ch video stream face recognition based on deep learning algorithm Up to 16 face databases with 20,000 face images in total Up to 2-ch @ 12MP or 3-ch @ 8MP or 6-ch @ 4MP or 12-ch @ 1080P decoding capacity | E3: =VLOOKUP(C3,'Короткий прайс'!A:B,2,0) -> 192 | F3: =ROUNDUP(E3*$J$1,0) -> 2496000 | H3: =G3*E3 -> 0 | I3: =G3*F3 -> 0
A4: 303613591 | C4: DS-7616NXI-I2/S(STD)(C) | D4: 4-ch false alarm reduction through human and vehicle target classification based on deep learning Up to 1-ch video stream face recognition based on deep learning algorithm Up to 16 face databases with 10.000 face images in total Up to 16-ch @ 1080p decoding capacity 1 HDMI and 1 VGA interfaces: both interfaces support independent video output Up to 12 MP high-definition live view. storage and playback 2 HDDs for continuous video recording | E4: =VLOOKUP(C4,'Короткий прайс'!A:B,2,0) -> По запросу | F4: =ROUNDUP(E4*$J$1,0) -> #VALUE! | H4: =G4*E4 -> #VALUE! | I4: =G4*F4 -> #VALUE!
A5: 303611984 | C5: DS-7732NXI-I4/S(STD) | D5: 4-ch false alarm reduction through human and vehicle target classification based on deep learning Up to 1-ch video stream face recognition based on deep learning algorithm Up to 16 face databases with 10.000 face images in total Up to 16-ch @ 1080p decoding capacity 1 HDMI and 1 VGA interfaces: both interfaces support independent video output Up to 12 MP high-definition live view. storage and playback 4 HDDs for continuous video recording | E5: =VLOOKUP(C5,'Короткий прайс'!A:B,2,0) -> По запросу | F5: =ROUNDUP(E5*$J$1,0) -> #VALUE! | H5: =G5*E5 -> #VALUE! | I5: =G5*F5 -> #VALUE!
C6: DS-8632NI-I8 | D6: Up to 32 channel IP cameras can be connected Up to 12 MP high-definition live view, storage and playback Up to 320 Mbps (or 200 Mbps when RAID is enabled) high incoming bandwidth ensures IP cameras can be connected 2 HDMI (different source) and 2 VGA (different source) interfaces 8 HDD can be used for continuous video recording Supports some specialist cameras, including people counting camera/ANPR (automatic number plate recognition) camera/fisheye camera Advanced streaming technology enables smooth live view in poor network conditions Supports RAID 0, 1, 5, 6, 10 and N+1 hot spare for even more reliable data storage, effectively avoids data loss risks | E6: =VLOOKUP(C6,'Короткий прайс'!A:B,2,0) -> По запросу | F6: =ROUNDUP(E6*$J$1,0) -> #VALUE! | H6: =G6*E6 -> #VALUE! | I6: =G6*F6 -> #VALUE!
C7: DS-8632NXI-K8 | D7: Up to 32 channel IP cameras can be connected Supports decoding H.265+/H.265/H.264+/H.264/MPEG4 video formats Up to 4K high-definition live view, storage and playback Up to 160 Mbps high incoming bandwidth ensures IP cameras can be connected 2 HDMI (different source) and 2 VGA (different source) interfaces 8 HDD can be used for continuous video recording Supports some specialist cameras, including people counting camera/ANPR (automatic number plate recognition) camera | E7: =VLOOKUP(C7,'Короткий прайс'!A:B,2,0) -> По запросу | F7: =ROUNDUP(E7*$J$1,0) -> #VALUE! | H7: =G7*E7 -> #VALUE! | I7: =G7*F7 -> #VALUE!
C8: DS-9632NI-M16 | D8: 32-ch 3U 4K NVR Up to 32-ch IP camera inputs Up to 2-ch@32 MP/2-ch@24 MP/4-ch@12 MP/8-ch@8 MP/16-ch@4 MP/32-ch@1080p decoding capacity Up to 320 Mbps incoming bandwidth and 400 Mbps outgoing bandwidth 2 HDMI (different source) and 2 VGA (different source) interfaces, 8K or dual 4K video outputs Supports special cameras, including people counting camera, ANPR (automatic number plate recognition) camera, and fisheye camera Advanced streaming technology enables smooth live view in poor network conditions Supports RAID 0, 1, 5, 6, 10 and N+M hot spare for even more reliable data storage, effectively avoids data loss risks Up to 8-ch IP speakers can be connected | E8: =VLOOKUP(C8,'Короткий прайс'!A:B,2,0) -> 1320 | F8: =ROUNDUP(E8*$J$1,0) -> 17160000 | H8: =G8*E8 -> 0 | I8: =G8*F8 -> 0
C9: DS-9632NI-M8 | D9: 32-ch 2U 8K NVR Up to 32-ch IP camera inputs Up to 2-ch@32 MP/2-ch@24 MP/4-ch@12 MP/8-ch@8 MP/16-ch@4 MP/32-ch@1080p decoding capacity Up to 320 Mbps incoming bandwidth and 400 Mbps outgoing bandwidth 2 HDMI (different source) and 2 VGA (different source) interfaces, 8K or dual 4K video outputs Supports special cameras, including people counting camera, ANPR (automatic number plate recognition) camera, and fisheye camera Advanced streaming technology enables smooth live view in poor network conditions Supports RAID 0, 1, 5, 6, 10 and N+M hot spare for even more reliable data storage, effectively avoids data loss risks Up to 8-ch IP speakers can be connected | E9: =VLOOKUP(C9,'Короткий прайс'!A:B,2,0) -> 780 | F9: =ROUNDUP(E9*$J$1,0) -> 10140000 | H9: =G9*E9 -> 0 | I9: =G9*F9 -> 0
A10: 303604447 | C10: DS-96128NI-I16(STD) | D10: 576Mbps Bit Rate Input Max(up to 128-ch IP video). 16 SATA Interfaces. alarm I/O: 16/8. RAID0.1.5.6.10 supported. 3U case.19" | E10: =VLOOKUP(C10,'Короткий прайс'!A:B,2,0) -> 2490 | F10: =ROUNDUP(E10*$J$1,0) -> 32370000 | H10: =G10*E10 -> 0 | I10: =G10*F10 -> 0
C11: DS-9664NI-M8 | D11: Up to 64-ch IP camera inputs Up to 2-ch@32 MP/2-ch@24 MP/4-ch@12 MP/8-ch@8 MP/16-ch@4 MP/32-ch@1080p decoding capacity Up to 400 Mbps incoming bandwidth and 400 Mbps outgoing bandwidth 2 HDMI (different source) and 2 VGA (different source) interfaces, 8K or dual 4K video outputs Supports special cameras, including people counting camera, ANPR (automatic number plate recognition) camera, and fisheye camera Advanced streaming technology enables smooth live view in poor network conditions Supports RAID 0, 1, 5, 6, 10 and N+M hot spare for even more reliable data storage, effectively avoids data loss risks | E11: =VLOOKUP(C11,'Короткий прайс'!A:B,2,0) -> 1050 | F11: =ROUNDUP(E11*$J$1,0) -> 13650000 | H11: =G11*E11 -> 0 | I11: =G11*F11 -> 0
C12: DS-9664NI-M16 | D12: Up to 64-ch IP camera inputs Up to 2-ch@32 MP/2-ch@24 MP/4-ch@12 MP/8-ch@8 MP/16-ch@4 MP/32-ch@1080p decoding capacity Up to 400 Mbps incoming bandwidth and 400 Mbps outgoing bandwidth 2 HDMI (different source) and 2 VGA (different source) interfaces, 8K or dual 4K video outputs Supports special cameras, including people counting camera, ANPR (automatic number plate recognition) camera, and fisheye camera Advanced streaming technology enables smooth live view in poor network conditions Supports RAID 0, 1, 5, 6, 10 and N+M hot spare for even more reliable data storage, effectively avoids data loss risks | E12: =VLOOKUP(C12,'Короткий прайс'!A:B,2,0) -> 1900 | F12: =ROUNDUP(E12*$J$1,0) -> 24700000 | H12: =G12*E12 -> 0 | I12: =G12*F12 -> 0
C13: DS-96256NI-I24 | D13: Up to 256 channel IP cameras can be connected Up to 768 Mbps high incoming bandwidth ensures IP cameras can be connected 2 HDMI (different source) and 1 VGA interfaces 24 HDD can be used for continuous video recording Supports some specialist cameras, including people counting camera/ANPR (automatic number plate recognition) camera/fisheye camera Advanced streaming technology enables smooth live view in poor network conditions Supports RAID 0, 1, 5, 6, 10 and N+1 hot spare for even more reliable data storage, effectively avoids data loss risks | E13: =VLOOKUP(C13,'Короткий прайс'!A:B,2,0) -> 5000 | F13: =ROUNDUP(E13*$J$1,0) -> 65000000 | H13: =G13*E13 -> 0 | I13: =G13*F13 -> 0
C14: DS-A81016S/160 | D14: Economical and Stable Hardware Platform HDD detection and repair/RAID optimization Surveillance-specialized direct storage (Direct Streaming mode+IP SAN mode) Advanced data protection (synchronous backup of key information in system disks) Energy efficient and user-friendly UI | E14: =VLOOKUP(C14,'Короткий прайс'!A:B,2,0) -> По запросу | F14: =ROUNDUP(E14*$J$1,0) -> #VALUE! | H14: =G14*E14 -> #VALUE! | I14: =G14*F14 -> #VALUE!
C15: IDS-2CD7026G0-AP C | D15: High quality imaging with 2 MP resolution Excellent low-light performance via DarkFighter technology Clear imaging against strong back light due to 140 dB WDR technology Efficient H.265+ compression technology to save bandwidth and storage 5 streams to meet a wide variety of applications Built-in microphone for real-time audio security | E15: =VLOOKUP(C15,'Короткий прайс'!A:B,2,0) -> По запросу | F15: =ROUNDUP(E15*$J$1,0) -> #VALUE! | H15: =G15*E15 -> #VALUE! | I15: =G15*F15 -> #VALUE!
A16: 311307447 | C16: DS-2CD5AC5G0-IZHS(2.8-12mm)(B)(O-STD) | D16: 1/1.7" Progressive Scan CMOS. ICR. Color:0.009Lux/F1.2. B/W:0.0009Lux/F1.2. slow shutter. 12MP 20fps/20fps;: H.265+/H.265/H.264+/H.264/MJPEG， DWDR; 2*AlarmIn. 2*AlarmOut; 5streams+5 custom streams; (-H:build-in Heater); IP67;IK10; | E16: =VLOOKUP(C16,'Короткий прайс'!A:B,2,0) -> 850 | F16: =ROUNDUP(E16*$J$1,0) -> 11050000 | H16: =G16*E16 -> 0 | I16: =G16*F16 -> 0
A17: 311318354 | C17: DS-2CD6425G1-30(2.8mm)8m(O-STD) | D17: 1/2.8" Progressive Scan CMOS; 1920 × 1080 @ 30fps; H.265/H.264/MJPEG; Three streams;120dB WDR;3D DNR;4 behavior analyses ;Audio and alarm I/O;Smart encoding: low bit rate. low latency;ROI ; DC12V & PoE. Support on-board storage up to 256GB. Bracket included. Audio/Alarm IO 2m: 2m lens cable. 8m: 8m lens cable. Main body: 77.5 mm × 69 mm × 26 mm (3.1" × 2.7" × 1.0") L10: Ø26 mm × 40 mm (Ø1.0" × 1.6") L20: 37 mm × 26 mm × 25 mm (1.5" × 1.0" × 1.0") L30: Ø26 mm × 50 mm (Ø1.0" × 2.0") | E17: =VLOOKUP(C17,'Короткий прайс'!A:B,2,0) -> 370 | F17: =ROUNDUP(E17*$J$1,0) -> 4810000 | H17: =G17*E17 -> 0 | I17: =G17*F17 -> 0
A18: 311320165 | C18: iDS-2CD7146G0-IZS 2,8-12mm | D18: Darkfighter Ultra-low light technology. H.265+/H.265/H.264+/H.264/MJPEG; Color:0.001Lux/F1.2. BW:0.0003Lux/F1.2; 1/1.8""CMOS;4MP 50fps/60fps;140dB WDR; 1*AudioOut.1*AudioIn;2*build-in Mic;1*Speaker;2*AlarmIn.2*AlarmOut;RS485;DC12Vout;5stream s;IK10;IP67; Perimeter detection;Face recognition;Multi-target-type detection | E18: =VLOOKUP(C18,'Короткий прайс'!A:B,2,0) -> По запросу | F18: =ROUNDUP(E18*$J$1,0) -> #VALUE! | H18: =G18*E18 -> #VALUE! | I18: =G18*F18 -> #VALUE!
A19: 311317289 | C19: DS iDS-2CD7A26G0-IZHS(2.8-12mm)(C)(O-STD) | D19: The DS-2CD7A26G0-ISF (2.8-12mm) IP camera is a 2 MP cylindrical IP camera with a variofocal lens and IR illumination • High image quality with a resolution of 2 MP • Excellent performance in low light thanks to DarkFighter technology • Clear image in bright back light thanks to 140 dB WDR technology • Efficient H.265+ compression technology to save bandwidth and storage space • Smooth streaming for high-quality real-time viewing and auto-correction of images with a weak network signal • 5 installed threads and up to 5 configurable threads to meet a wide range of applications • Moisture and dust protection (IP67) and vandal-proof protection (IK10) • Built-in microSD/SDHC/SDXC slot: yes. up to 256 GB • Built-in microphone: No | E19: =VLOOKUP(C19,'Короткий прайс'!A:B,2,0) -> По запросу | F19: =ROUNDUP(E19*$J$1,0) -> #VALUE! | H19: =G19*E19 -> #VALUE! | I19: =G19*F19 -> #VALUE!
